BEGIN:VCALENDAR
VERSION:2.0
PRODID:-//pretix//pretix.eu//
BEGIN:VTIMEZONE
TZID:Europe/Berlin
BEGIN:STANDARD
DTSTART:20001029T040000
RRULE:FREQ=YEARLY;BYDAY=-1SU;BYMONTH=10
TZNAME:CET
TZOFFSETFROM:+0200
TZOFFSETTO:+0100
END:STANDARD
BEGIN:DAYLIGHT
DTSTART:20000326T030000
RRULE:FREQ=YEARLY;BYDAY=-1SU;BYMONTH=3
TZNAME:CEST
TZOFFSETFROM:+0100
TZOFFSETTO:+0200
END:DAYLIGHT
END:VTIMEZONE
BEGIN:VEVENT
UID:pretix-sus09-fu-1-herrenmannschaft-4190638@sus09.vereinsticket.de
DTSTART;TZID=Europe/Berlin:20240726T163000
DTEND;TZID=Europe/Berlin:20240726T173000
DESCRIPTION:Tickets: https://sus09.vereinsticket.de/fu-1-herrenmannschaft/4
 190638/\nVeranstalter: SuS 09 Dinslaken
DTSTAMP:20260424T080942Z
LOCATION:Sportpark Voerder Straße\, Kunstrasenplatz 1 Tribüne\, 46535 Din
 slaken
SUMMARY:LBS Sport CUP - Tag 1
END:VEVENT
END:VCALENDAR
